BEGIN:VCALENDAR
VERSION:2.0
PRODID:-//CERN//INDICO//EN
BEGIN:VEVENT
SUMMARY:Atelier du réseau détecteurs gazeux
DTSTART:20260506T110000Z
DTEND:20260507T110000Z
DTSTAMP:20260422T091200Z
UID:indico-event-4338@lpsc-indico.in2p3.fr
DESCRIPTION:Voir le programme\n \n\nhttps://lpsc-indico.in2p3.fr/event/43
 38/
IMAGE;VALUE=URI:https://lpsc-indico.in2p3.fr/event/4338/logo-1232491527.pn
 g
LOCATION:LPSC-LSM Modane
URL:https://lpsc-indico.in2p3.fr/event/4338/
END:VEVENT
END:VCALENDAR
